BEGIN:VCALENDAR
VERSION:2.0
PRODID:-//ChamberMaster//Event Calendar 2.0//EN
METHOD:PUBLISH
X-PUBLISHED-TTL:P3D
REFRESH-INTERVAL:P3D
CALSCALE:GREGORIAN
BEGIN:VEVENT
DTSTART:20231111T003000Z
DTEND:20231111T050000Z
X-MICROSOFT-CDO-ALLDAYEVENT:FALSE
SUMMARY:AIADA Fall Poker Tournament - 11/10/2023
DESCRIPTION:33rd Annual AIADA Fall Poker Tournament\n\nTexas HoldEm Poker
X-ALT-DESC;FMTTYPE=text/html:33rd Annual AIADA Fall Poker Tournament<br />\nTexas HoldEm Poker<br />\n&nbsp\;
LOCATION:Dealers Auto Auction of the Southwest Address: 1433 S 19th Ave\, Phoenix 85009 Phone: (602) 253-7766
UID:e.9068.1450
SEQUENCE:3
DTSTAMP:20260425T154339Z
URL:http://aiada.memberzone.com/events/details/aiada-fall-poker-tournament-11-10-2023-1450
END:VEVENT

END:VCALENDAR
