BEGIN:VCALENDAR
VERSION:2.0
PRODID:-//ChamberMaster//Event Calendar 2.0//EN
METHOD:PUBLISH
X-PUBLISHED-TTL:P3D
REFRESH-INTERVAL:P3D
CALSCALE:GREGORIAN
BEGIN:VEVENT
DTSTART:20220402T003000Z
DTEND:20220402T050000Z
X-MICROSOFT-CDO-ALLDAYEVENT:FALSE
SUMMARY:AIADA Spring Poker Tournament - 04/01/2022
DESCRIPTION:30th Annual AIADA Fall Poker Tournament\n\nTexas HoldEm Poker
X-ALT-DESC;FMTTYPE=text/html:30th Annual AIADA Fall Poker Tournament<br />\nTexas HoldEm Poker<br />\n&nbsp\;
LOCATION:Dealers Auto Auction of the Southwest Address: 1433 S 19th Ave\, Phoenix 85009 Phone: (602) 253-7766
UID:e.9068.1293
SEQUENCE:3
DTSTAMP:20260424T074135Z
URL:http://aiada.memberzone.com/events/details/aiada-spring-poker-tournament-04-01-2022-1293
END:VEVENT

END:VCALENDAR
