BEGIN:VCALENDAR
VERSION:2.0
PRODID:-//ChamberMaster//Event Calendar 2.0//EN
METHOD:PUBLISH
X-PUBLISHED-TTL:P3D
REFRESH-INTERVAL:P3D
CALSCALE:GREGORIAN
BEGIN:VEVENT
DTSTART:20240420T003000Z
DTEND:20240420T050000Z
X-MICROSOFT-CDO-ALLDAYEVENT:FALSE
SUMMARY:AIADA Spring Poker Tournament - 04/19/2024
DESCRIPTION:33rd Semi Annual AIADA Spring Poker Tournament\n\nTexas HoldEm Poker
X-ALT-DESC;FMTTYPE=text/html:33rd Semi Annual AIADA Spring Poker Tournament<br />\nTexas HoldEm Poker<br />\n&nbsp\;
LOCATION:Metro Auto Auction Address: 2475 S 59th Ave\, Phoenix\, AZ 85043 Phone: (602) 279-9500
UID:e.9068.1590
SEQUENCE:3
DTSTAMP:20260426T000955Z
URL:http://aiada.memberzone.com/events/details/aiada-spring-poker-tournament-04-19-2024-1590
END:VEVENT

END:VCALENDAR
