BEGIN:VCALENDAR
VERSION:2.0
PRODID:-//ChamberMaster//Event Calendar 2.0//EN
METHOD:PUBLISH
X-PUBLISHED-TTL:P3D
REFRESH-INTERVAL:P3D
CALSCALE:GREGORIAN
BEGIN:VEVENT
DTSTART:20260228T003000Z
DTEND:20260228T060000Z
X-MICROSOFT-CDO-ALLDAYEVENT:FALSE
SUMMARY:AIADA Texas Hold'em Tournament 02/27/2026
DESCRIPTION:2026 AIADA Texas Hold'em Tournament    \n\n$125 entry fee.  Includes Dinner and Open Bar and Seat in Tournament\n\n\n\nPrizes:\n\n1st Place: $2\,000\n\n2nd Place: $1\,000\n\n3rd Place: $500
X-ALT-DESC;FMTTYPE=text/html:2026 AIADA Texas Hold&#39\;em Tournament&nbsp\;&nbsp\;&nbsp\;&nbsp\;<br />\n$125 entry fee.&nbsp\; Includes Dinner and Open Bar and Seat in Tournament<br />\n<br />\n<strong style="font-size: 18px\;">Prizes:</strong><br style="font-size: 18px\;" />\n<span style="font-size: 18px\;">1st Place: $2\,000</span><br style="font-size: 18px\;" />\n<span style="font-size: 18px\;">2nd Place: $1\,000</span><br style="font-size: 18px\;" />\n<span style="font-size: 18px\;">3rd Place: $500</span>
LOCATION:Dealers Auto Auction of the Southwest 1433 S 19th Ave\, Phoenix\, AZ 85009
UID:e.9068.1671
SEQUENCE:3
DTSTAMP:20260424T061507Z
URL:http://aiada.memberzone.com/events/details/aiada-texas-hold-em-tournament-02-27-2026-1671
END:VEVENT

END:VCALENDAR
