BEGIN:VCALENDAR
VERSION:2.0
PRODID:-//ChamberMaster//Event Calendar 2.0//EN
METHOD:PUBLISH
X-PUBLISHED-TTL:P3D
REFRESH-INTERVAL:P3D
CALSCALE:GREGORIAN
BEGIN:VEVENT
DTSTART:20241102T003000Z
DTEND:20241102T053000Z
X-MICROSOFT-CDO-ALLDAYEVENT:FALSE
SUMMARY:AIADA Texas Hold'em Tournament
DESCRIPTION:AIADA Texas Hold'em Tournament
X-ALT-DESC;FMTTYPE=text/html:AIADA Texas Hold&#39\;em Tournament<br />\n&nbsp\;&nbsp\;&nbsp\;&nbsp\;&nbsp\;&nbsp\;&nbsp\;&nbsp\;
LOCATION:Hosted at: Dealers Auto Auction of the Southwest 1433 S 19th Ave\, Phoenix\, AZ 85009
UID:e.9068.1669
SEQUENCE:3
DTSTAMP:20260425T172433Z
URL:http://aiada.memberzone.com/events/details/aiada-texas-hold-em-tournament-1669
END:VEVENT

END:VCALENDAR
