BEGIN:VCALENDAR
VERSION:2.0
PRODID:-//ChamberMaster//Event Calendar 2.0//EN
METHOD:PUBLISH
X-PUBLISHED-TTL:P3D
REFRESH-INTERVAL:P3D
CALSCALE:GREGORIAN
BEGIN:VEVENT
DTSTART:20270212T170000Z
DTEND:20270212T100000Z
X-MICROSOFT-CDO-ALLDAYEVENT:FALSE
SUMMARY:Arizona Dealer Compliance Education
DESCRIPTION:Compliance Education\n  Out-of-State Sales Tax   when you charge\, when you don't\, and how to document it\n\n  Lending rules and regulations   and what lenders now expect from dealers\n\n  How to pass an ADOT Dealer Enforcement inspection   step-by-step\n\n  Buy Here Pay Here compliance traps\n\n  Repossession laws and what dealers commonly do wrong\n\n  OFAC checks   what actually needs to be verified and documented\n\n  Red Flag Rules   spotting and documenting identity fraud\n\n  CFPB and FTC expectations   and how they apply to YOU\n\n \n\nThis class isn't theory. It's based on real Arizona dealer cases\, enforcement actions\, and common mistakes we see every month.
X-ALT-DESC;FMTTYPE=text/html:Compliance Education\n<p style="color: rgb(0\, 0\, 0)\; font-family: Arial\, verdana\; font-size: 12px\; padding: 0px\; margin: 0px\; line-height: 19pt\;"><font color="#000000" face="Arial\, Helvetica" style="font-size: 18pt\;"><font color="#000000" face="Arial\, Helvetica" style="font-size: 12pt\;"><strong>&#10004\; Out-of-State Sales Tax &mdash\; when you charge\, when you don&rsquo\;t\, and how to document it</strong></font></font></p>\n\n<p style="color: rgb(0\, 0\, 0)\; font-family: Arial\, verdana\; font-size: 12px\; padding: 0px\; margin: 0px\; line-height: 19pt\;"><font color="#000000" face="Arial\, Helvetica" style="font-size: 18pt\;"><font color="#000000" face="Arial\, Helvetica" style="font-size: 12pt\;"><strong>&#10004\; Lending rules and regulations &mdash\; and what lenders now expect from dealers</strong></font></font></p>\n\n<p style="color: rgb(0\, 0\, 0)\; font-family: Arial\, verdana\; font-size: 12px\; padding: 0px\; margin: 0px\; line-height: 19pt\;"><font color="#000000" face="Arial\, Helvetica" style="font-size: 18pt\;"><font color="#000000" face="Arial\, Helvetica" style="font-size: 12pt\;"><strong>&#10004\; How to pass an ADOT Dealer Enforcement inspection &mdash\; step-by-step</strong><br />\n<strong>&#10004\; Buy Here Pay Here compliance traps</strong><br />\n<strong>&#10004\; Repossession laws and what dealers commonly do wrong</strong><br />\n<strong>&#10004\; OFAC checks &mdash\; what actually needs to be verified and documented</strong><br />\n<strong>&#10004\; Red Flag Rules &mdash\; spotting and documenting identity fraud</strong><br />\n<strong>&#10004\; CFPB and FTC expectations &mdash\; and how they apply to YOU</strong></font></font></p>\n\n<p style="color: rgb(0\, 0\, 0)\; font-family: Arial\, verdana\; font-size: 12px\; padding: 0px\; margin: 0px\; line-height: 19pt\;">&nbsp\;</p>\n\n<p style="color: rgb(0\, 0\, 0)\; font-family: Arial\, verdana\; font-size: 12px\; padding: 0px\; margin: 0px\; line-height: 19pt\;"><font color="#000000" face="Arial\, Helvetica" style="font-size: 18pt\;"><font color="#000000" face="Arial\, Helvetica" style="font-size: 12pt\;">This class isn&rsquo\;t theory. It&rsquo\;s based on&nbsp\;<strong>real Arizona dealer cases</strong>\, enforcement actions\, and common mistakes we see every month.</font></font></p>\n<br />\n&nbsp\;
LOCATION:Live Webinar
UID:e.9068.1828
SEQUENCE:3
DTSTAMP:20260419T170639Z
URL:http://aiada.memberzone.com/events/details/arizona-dealer-compliance-education-02-12-2027-1828
END:VEVENT

END:VCALENDAR
