BEGIN:VCALENDAR
VERSION:2.0
PRODID:-//ChamberMaster//Event Calendar 2.0//EN
METHOD:PUBLISH
X-PUBLISHED-TTL:P3D
REFRESH-INTERVAL:P3D
CALSCALE:GREGORIAN
BEGIN:VEVENT
DTSTART:20230316T180000Z
DTEND:20230316T190000Z
X-MICROSOFT-CDO-ALLDAYEVENT:FALSE
SUMMARY:Live Webinar - Staying Relevant with Online Retailing
DESCRIPTION:Are you looking for ways to stay current and relevant in the new age of online retailing?\n\n\n\nYou're in luck! Sean Toussi is hosting a webinar to help you stay ahead of the competition. During the webinar\, Sean will discuss the latest trends in online retailing and provide practical strategies for staying ahead of the game.\n\n\n\nThis webinar is designed to help car dealers of all sizes and levels gain an understanding of the ever-changing world of online retailing. You'll learn how to tap into new markets and keep up with the latest technologies.\n\n\n\nDon't miss this opportunity to gain valuable insights and a competitive edge. Register now and join us for the webinar on March 16th at 11 am (MST).\n\n\n\nWe look forward to seeing you there!
X-ALT-DESC;FMTTYPE=text/html:<b style="color: rgb(0\, 0\, 0)\; font-family: &quot\;Lato 2&quot\;\, system-ui\, -apple-system\, &quot\;Segoe UI&quot\;\, Roboto\, Ubuntu\, Cantarell\, &quot\;Noto Sans&quot\;\, sans-serif\; font-size: 14px\;">Are you looking for ways to stay current and relevant in the new age of online retailing?<br />\n<br />\nYou&rsquo\;re in luck! Sean Toussi is hosting a webinar to help you stay ahead of the competition. During the webinar\, Sean will discuss the latest trends in online retailing and provide practical strategies for staying ahead of the game.<br />\n<br />\nThis webinar is designed to help car dealers of all sizes and levels gain an understanding of the ever-changing world of online retailing. You&rsquo\;ll learn how to tap into new markets and keep up with the latest technologies.<br />\n<br />\nDon&rsquo\;t miss this opportunity to gain valuable insights and a competitive edge. Register now and join us for the webinar on&nbsp\;<span class="zm_inLnk" data-value="2023-03-16 09:00:00" style="border-bottom: 1px dashed rgb(85\, 85\, 85)\; cursor: pointer\; line-height: 1\; transition: all 0.3s ease 0s\;">March 16th at 11 am</span>&nbsp\;(MST).<br />\n<br />\nWe look forward to seeing you there!</b>
LOCATION:Live Webinar: You will receive login info prior to webinar.
UID:e.9068.1300
SEQUENCE:3
DTSTAMP:20260424T234741Z
URL:http://aiada.memberzone.com/events/details/live-webinar-staying-relevant-with-online-retailing-1300
END:VEVENT

END:VCALENDAR
