BEGIN:VCALENDAR
VERSION:2.0
PRODID:-//ChamberMaster//Event Calendar 2.0//EN
METHOD:PUBLISH
X-PUBLISHED-TTL:P3D
REFRESH-INTERVAL:P3D
CALSCALE:GREGORIAN
BEGIN:VEVENT
DTSTART:20231020T153000Z
DTEND:20231020T193000Z
X-MICROSOFT-CDO-ALLDAYEVENT:FALSE
SUMMARY:New Dealer Orientation - Metro
DESCRIPTION:Agenda\n\n\n\n	Overview of ADOT Systems Used by Arizona Dealers\n	Auction Basics\n	\n		Auction Access Application\n		Registering with Auctions to Become a Buyer/Seller\n		Auction Tour\n		Mock Auction\n		Checking In/Out Vehicles\n		Online Auction\n		Arbitration\n	\n	\n	ADOT Compliance\n	\n		MVD Policies\n		License Changes\n		Dealer Licensing Overview\n		License Type Limits\n		Displaying Your License\n		Passing an ADOT Audit\n		Use of Dealer Plates and the Dealer Plate Log\n		Perfecting a Title\n		Requirements for Authority to Offer for Sale\n		Consignments\n		Deal Jacket Content Requirements and Retention
X-ALT-DESC;FMTTYPE=text/html:<div align="left" style="margin: 0px\; padding: 0px\; box-sizing: border-box\; color: rgb(0\, 0\, 0)\; font-family: Arial\, Helvetica\, sans-serif\; font-size: 12px\;"><font color="#fe0713" style="margin: 0px\; padding: 0px\; box-sizing: border-box\; font-size: 17pt\;"><b style="margin: 0px\; padding: 0px\; box-sizing: border-box\;">Agenda</b></font></div>\n\n<div align="left" style="margin: 0px\; padding: 0px\; box-sizing: border-box\; color: rgb(0\, 0\, 0)\; font-family: Arial\, Helvetica\, sans-serif\; font-size: 12px\;">\n<ul style="margin: 10px 0px\; padding-right: 0px\; box-sizing: border-box\;">\n	<li style="margin: 0px\; padding: 0px\; box-sizing: border-box\;"><span style="margin: 0px\; padding: 0px\; box-sizing: border-box\; font-size: 18.6667px\;">Overview of ADOT Systems Used by Arizona Dealers</span></li>\n	<li style="margin: 0px\; padding: 0px\; box-sizing: border-box\;"><span style="margin: 0px\; padding: 0px\; box-sizing: border-box\; font-size: 18.6667px\;">Auction Basics</span>\n	<ul style="margin: 10px 0px\; padding-right: 0px\; box-sizing: border-box\;">\n		<li style="margin: 0px\; padding: 0px\; box-sizing: border-box\;"><span style="margin: 0px\; padding: 0px\; box-sizing: border-box\; font-size: 18.6667px\;">Auction Access Application</span></li>\n		<li style="margin: 0px\; padding: 0px\; box-sizing: border-box\;"><span style="margin: 0px\; padding: 0px\; box-sizing: border-box\; font-size: 18.6667px\;">Registering with Auctions to Become a Buyer/Seller</span></li>\n		<li style="margin: 0px\; padding: 0px\; box-sizing: border-box\;"><span style="margin: 0px\; padding: 0px\; box-sizing: border-box\; font-size: 18.6667px\;">Auction Tour</span></li>\n		<li style="margin: 0px\; padding: 0px\; box-sizing: border-box\;"><span style="margin: 0px\; padding: 0px\; box-sizing: border-box\; font-size: 18.6667px\;">Mock Auction</span></li>\n		<li style="margin: 0px\; padding: 0px\; box-sizing: border-box\;"><span style="margin: 0px\; padding: 0px\; box-sizing: border-box\; font-size: 18.6667px\;">Checking In/Out Vehicles</span></li>\n		<li style="margin: 0px\; padding: 0px\; box-sizing: border-box\;"><span style="margin: 0px\; padding: 0px\; box-sizing: border-box\; font-size: 18.6667px\;">Online Auction</span></li>\n		<li style="margin: 0px\; padding: 0px\; box-sizing: border-box\;"><span style="margin: 0px\; padding: 0px\; box-sizing: border-box\; font-size: 18.6667px\;">Arbitration</span></li>\n	</ul>\n	</li>\n	<li style="margin: 0px\; padding: 0px\; box-sizing: border-box\;"><span style="margin: 0px\; padding: 0px\; box-sizing: border-box\; font-size: 18.6667px\;">ADOT Compliance</span>\n	<ul style="margin: 10px 0px\; padding-right: 0px\; box-sizing: border-box\;">\n		<li style="margin: 0px\; padding: 0px\; box-sizing: border-box\;"><span style="margin: 0px\; padding: 0px\; box-sizing: border-box\; font-size: 18.6667px\;">MVD Policies</span></li>\n		<li style="margin: 0px\; padding: 0px\; box-sizing: border-box\;"><span style="margin: 0px\; padding: 0px\; box-sizing: border-box\; font-size: 18.6667px\;">License Changes</span></li>\n		<li style="margin: 0px\; padding: 0px\; box-sizing: border-box\;"><span style="margin: 0px\; padding: 0px\; box-sizing: border-box\; font-size: 18.6667px\;">Dealer Licensing Overview</span></li>\n		<li style="margin: 0px\; padding: 0px\; box-sizing: border-box\;"><span style="margin: 0px\; padding: 0px\; box-sizing: border-box\; font-size: 18.6667px\;">License Type Limits</span></li>\n		<li style="margin: 0px\; padding: 0px\; box-sizing: border-box\;"><span style="margin: 0px\; padding: 0px\; box-sizing: border-box\; font-size: 18.6667px\;">Displaying Your License</span></li>\n		<li style="margin: 0px\; padding: 0px\; box-sizing: border-box\;"><span style="margin: 0px\; padding: 0px\; box-sizing: border-box\; font-size: 18.6667px\;">Passing an ADOT Audit</span></li>\n		<li style="margin: 0px\; padding: 0px\; box-sizing: border-box\;"><span style="margin: 0px\; padding: 0px\; box-sizing: border-box\; font-size: 18.6667px\;">Use of Dealer Plates and the Dealer Plate Log</span></li>\n		<li style="margin: 0px\; padding: 0px\; box-sizing: border-box\;"><span style="margin: 0px\; padding: 0px\; box-sizing: border-box\; font-size: 18.6667px\;">Perfecting a Title</span></li>\n		<li style="margin: 0px\; padding: 0px\; box-sizing: border-box\;"><span style="margin: 0px\; padding: 0px\; box-sizing: border-box\; font-size: 18.6667px\;">Requirements for Authority to Offer for Sale</span></li>\n		<li style="margin: 0px\; padding: 0px\; box-sizing: border-box\;"><span style="margin: 0px\; padding: 0px\; box-sizing: border-box\; font-size: 18.6667px\;">Consignments</span></li>\n		<li style="margin: 0px\; padding: 0px\; box-sizing: border-box\;"><span style="margin: 0px\; padding: 0px\; box-sizing: border-box\; font-size: 18.6667px\;">Deal Jacket Content Requirements and Retention</span></li>\n	</ul>\n	</li>\n</ul>\n</div>\n
LOCATION:Metro Auto Auction 2475 S 59th Ave Phoenix\, AZ
UID:e.9068.1449
SEQUENCE:3
DTSTAMP:20260425T115504Z
URL:http://aiada.memberzone.com/events/details/new-dealer-orientation-metro-1449
END:VEVENT

END:VCALENDAR
