BEGIN:VCALENDAR
VERSION:2.0
PRODID:-//ChamberMaster//Event Calendar 2.0//EN
METHOD:PUBLISH
X-PUBLISHED-TTL:P3D
REFRESH-INTERVAL:P3D
CALSCALE:GREGORIAN
BEGIN:VEVENT
DTSTART:20230222T183000Z
DTEND:20230222T203000Z
X-MICROSOFT-CDO-ALLDAYEVENT:FALSE
SUMMARY:Safeguards Rule - Lunch & Learn - Tucson
DESCRIPTION:Do you take credit cards?\n\nDo you arrange for financing?\n\nAre you a Buy Here Pay Here dealer?\n\n \n\nIf you answered yes to any of these questions\, you have compliance requirements for which \n\nYOU ARE REQUIRED TO COMPLY!!!\n\n \n\nAttend our Free Lunch and Learn\n\nOpen to Any Dealers!\n\n \n\nThis is a Tucson Area event. We will be holding similar events throughout Arizona!!!
X-ALT-DESC;FMTTYPE=text/html:<div align="center" style="margin: 0px\; padding: 0px\; box-sizing: border-box\; color: rgb(0\, 0\, 0)\; font-family: Arial\, Helvetica\, sans-serif\; font-size: 12px\; text-align: center\;"><b style="margin: 0px\; padding: 0px\; box-sizing: border-box\;"><font style="margin: 0px\; padding: 0px\; box-sizing: border-box\; font-size: 14pt\;">Do you take credit cards?</font></b></div>\n\n<div align="center" style="margin: 0px\; padding: 0px\; box-sizing: border-box\; color: rgb(0\, 0\, 0)\; font-family: Arial\, Helvetica\, sans-serif\; font-size: 12px\; text-align: center\;"><b style="margin: 0px\; padding: 0px\; box-sizing: border-box\;"><font style="margin: 0px\; padding: 0px\; box-sizing: border-box\; font-size: 14pt\;">Do you arrange for financing?</font></b></div>\n\n<div align="center" style="margin: 0px\; padding: 0px\; box-sizing: border-box\; color: rgb(0\, 0\, 0)\; font-family: Arial\, Helvetica\, sans-serif\; font-size: 12px\; text-align: center\;"><b style="margin: 0px\; padding: 0px\; box-sizing: border-box\;"><font style="margin: 0px\; padding: 0px\; box-sizing: border-box\; font-size: 14pt\;">Are you a Buy Here Pay Here dealer?</font></b></div>\n\n<div align="center" style="margin: 0px\; padding: 0px\; box-sizing: border-box\; color: rgb(0\, 0\, 0)\; font-family: Arial\, Helvetica\, sans-serif\; font-size: 12px\; text-align: center\;">&nbsp\;</div>\n\n<div align="center" style="margin: 0px\; padding: 0px\; box-sizing: border-box\; color: rgb(0\, 0\, 0)\; font-family: Arial\, Helvetica\, sans-serif\; font-size: 12px\; text-align: center\;"><b style="margin: 0px\; padding: 0px\; box-sizing: border-box\;"><font style="margin: 0px\; padding: 0px\; box-sizing: border-box\; font-size: 14pt\;">If you answered yes to any of these questions\, you have compliance requirements for which&nbsp\;</font></b></div>\n\n<div align="center" style="margin: 0px\; padding: 0px\; box-sizing: border-box\; color: rgb(0\, 0\, 0)\; font-family: Arial\, Helvetica\, sans-serif\; font-size: 12px\; text-align: center\;"><b style="margin: 0px\; padding: 0px\; box-sizing: border-box\;"><font color="#fe0713" style="margin: 0px\; padding: 0px\; box-sizing: border-box\; font-size: 18pt\;">YOU ARE REQUIRED TO COMPLY!!!</font></b></div>\n\n<div align="center" style="margin: 0px\; padding: 0px\; box-sizing: border-box\; color: rgb(0\, 0\, 0)\; font-family: Arial\, Helvetica\, sans-serif\; font-size: 12px\; text-align: center\;">&nbsp\;</div>\n\n<div align="center" style="margin: 0px\; padding: 0px\; box-sizing: border-box\; color: rgb(0\, 0\, 0)\; font-family: Arial\, Helvetica\, sans-serif\; font-size: 12px\; text-align: center\;"><b style="margin: 0px\; padding: 0px\; box-sizing: border-box\;"><font style="margin: 0px\; padding: 0px\; box-sizing: border-box\; font-size: 14pt\;">Attend our Free Lunch and Learn</font></b></div>\n\n<div align="center" style="margin: 0px\; padding: 0px\; box-sizing: border-box\; color: rgb(0\, 0\, 0)\; font-family: Arial\, Helvetica\, sans-serif\; font-size: 12px\; text-align: center\;"><b style="margin: 0px\; padding: 0px\; box-sizing: border-box\;"><font style="margin: 0px\; padding: 0px\; box-sizing: border-box\; font-size: 14pt\;">Open to Any Dealers!</font></b><br />\n&nbsp\;</div>\n\n<div align="center" style="margin: 0px\; padding: 0px\; box-sizing: border-box\; color: rgb(0\, 0\, 0)\; font-family: Arial\, Helvetica\, sans-serif\; font-size: 12px\; text-align: center\;"><b style="margin: 0px\; padding: 0px\; box-sizing: border-box\;"><font style="margin: 0px\; padding: 0px\; box-sizing: border-box\; font-size: 14pt\;">This is a Tucson Area event. We will be holding similar events throughout Arizona!!!&nbsp\;</font></b></div>\n
LOCATION:Reforma Modern Mexican Mezcal and Tequila 4340 North Campbell Avenue\, Suite 101\, Tucson\, AZ 85718
UID:e.9068.1298
SEQUENCE:3
DTSTAMP:20260424T221623Z
URL:http://aiada.memberzone.com/events/details/safeguards-rule-lunch-learn-tucson-1298
END:VEVENT

END:VCALENDAR
